BEGIN:VCALENDAR
VERSION:2.0
PRODID:-//eventon.com NONSGML v1.0//EN
CALSCALE:GREGORIAN
METHOD:PUBLISH
BEGIN:VEVENT
UID:69e731814fca7
DTSTAMP:20260421T081249Z
DTSTART:20240414
DTEND:20240415
LOCATION:Estrées Saint-Denis
SUMMARY:Circuit Départemental à Estrées Saint-Denis
DESCRIPTION:\nhttps://equi-oise.fr/events/circuit-departemental-a-estrees-s
 aint-denis-3/
URL:https://equi-oise.fr/events/circuit-departemental-a-estrees-saint-denis-3/
END:VEVENT
END:VCALENDAR