BEGIN:VCALENDAR
VERSION:2.0
PRODID:-//eventon.com NONSGML v1.0//EN
CALSCALE:GREGORIAN
METHOD:PUBLISH
BEGIN:VEVENT
UID:69e64fd757a26
DTSTAMP:20260420T160959Z
DTSTART:20240908
DTEND:20240909
LOCATION:Compiègne
SUMMARY:Championnat Régional Amateur à Compiègne
DESCRIPTION:\nhttps://equi-oise.fr/events/championnat-regional-amateur-a-co
 mpiegne/
URL:https://equi-oise.fr/events/championnat-regional-amateur-a-compiegne/
END:VEVENT
END:VCALENDAR