BEGIN:VCALENDAR
VERSION:2.0
PRODID:-//eventon.com NONSGML v1.0//EN
CALSCALE:GREGORIAN
METHOD:PUBLISH
BEGIN:VEVENT
UID:69e4cf369ab61
DTSTAMP:20260419T124854Z
DTSTART:20240407
DTEND:20240408
LOCATION:Pouilly
SUMMARY:Circuit Départemental à Pouilly
DESCRIPTION:\nhttps://equi-oise.fr/events/circuit-departemental-a-pouilly-3
 /
URL:https://equi-oise.fr/events/circuit-departemental-a-pouilly-3/
END:VEVENT
END:VCALENDAR