BEGIN:VCALENDAR
VERSION:2.0
PRODID:-//eventon.com NONSGML v1.0//EN
CALSCALE:GREGORIAN
METHOD:PUBLISH
BEGIN:VEVENT
UID:69e88f819f34b
DTSTAMP:20260422T090609Z
DTSTART:20230916
DTEND:20230917
LOCATION:
SUMMARY:Fête du Cheval de Lamorlaye
DESCRIPTION:Pour célébrer le cheval\,  la&nbsp;Ville de Lamorlaye&nbsp;or
 ganise sa traditionnelle fête du cheval\,  les 16 &amp; 17 septembre. Au p
 rogramme : Courses\,  visites\,  spectacles\,  initiations\,  démonstratio
 ns\,  concert et la course à cheval. Concours de Cheval à deux-Pattes (po
 ur les enfants de 8 à 13 ans) avec remise de prix à 16h45&nbsp;INSCRIPTIO
 N[..]\nhttps://equi-oise.fr/events/fete-du-cheval-de-lamorlaye/
URL:https://equi-oise.fr/events/fete-du-cheval-de-lamorlaye/
END:VEVENT
END:VCALENDAR